BEGIN:VCALENDAR
VERSION:2.0
PRODID:-//Hexham Community Church - ECPv5.8.1//NONSGML v1.0//EN
CALSCALE:GREGORIAN
METHOD:PUBLISH
X-WR-CALNAME:Hexham Community Church
X-ORIGINAL-URL:https://www.hexhamcc.com
X-WR-CALDESC:Events for Hexham Community Church
BEGIN:VTIMEZONE
TZID:Europe/London
BEGIN:DAYLIGHT
TZOFFSETFROM:+0000
TZOFFSETTO:+0100
TZNAME:BST
DTSTART:20190331T010000
END:DAYLIGHT
BEGIN:STANDARD
TZOFFSETFROM:+0100
TZOFFSETTO:+0000
TZNAME:GMT
DTSTART:20191027T010000
END:STANDARD
END:VTIMEZONE
BEGIN:VEVENT
DTSTART;TZID=Europe/London:20191130T160000
DTEND;TZID=Europe/London:20191130T183000
DTSTAMP:20260426T042103
CREATED:20191027T120013Z
LAST-MODIFIED:20191025T135112Z
UID:30009-1575129600-1575138600@www.hexhamcc.com
SUMMARY:Ladies' Christmas Afternoon Tea – Saturday
DESCRIPTION:Our festive ladies’ events are back\, this year with a fresh format: Christmas Afternoon Tea! With all the high-tea goodies\, live musical entertainment and an after tea speaker\, this is an afternoon out you don’t want to miss. As these events have always been popular\, we have two afternoons to choose from. For the Sunday event click here. \nTickets are £8\, available from the Hexham Community Church office until 25th November: office@hexhamcc.com | 01434 601113 \nThis event is for age 14+ only. \nPlease let Susanna Dawson know of any dietary requirements by 25th November (phone number given on ticket). \nIf you are part of a group and want to sit together at a table\, please make sure you check bookings with your group leader so that you are only allocated one ticket.
URL:https://www.hexhamcc.com/event/ladies-saturday/
LOCATION:Hexham Community Church\, Central Chambers\, Beaumont Street\, Hexham\, Northumberland\, NE46 3LS\, United Kingdom
CATEGORIES:Seasonal Events,Social
ATTACH;FMTTYPE=image/jpeg:https://www.hexhamcc.com/wp-content/uploads/sites/5/2019/10/ladies19_eventsat2.jpg
ORGANIZER;CN="Hexham%20Community%20Church":MAILTO:office@hexhamcc.com
END:VEVENT
END:VCALENDAR