BEGIN:VCALENDAR
VERSION:2.0
PRODID:-//Hexham Community Church - ECPv5.8.1//NONSGML v1.0//EN
CALSCALE:GREGORIAN
METHOD:PUBLISH
X-WR-CALNAME:Hexham Community Church
X-ORIGINAL-URL:https://www.hexhamcc.com
X-WR-CALDESC:Events for Hexham Community Church
BEGIN:VTIMEZONE
TZID:Europe/London
BEGIN:DAYLIGHT
TZOFFSETFROM:+0000
TZOFFSETTO:+0100
TZNAME:BST
DTSTART:20200329T010000
END:DAYLIGHT
BEGIN:STANDARD
TZOFFSETFROM:+0100
TZOFFSETTO:+0000
TZNAME:GMT
DTSTART:20201025T010000
END:STANDARD
END:VTIMEZONE
BEGIN:VEVENT
DTSTART;TZID=Europe/London:20200208T193000
DTEND;TZID=Europe/London:20200208T213000
DTSTAMP:20260426T020557
CREATED:20200106T120251Z
LAST-MODIFIED:20200106T120251Z
UID:30449-1581190200-1581197400@www.hexhamcc.com
SUMMARY:Worship Night with Taking Ground Music
DESCRIPTION:We are excited to meet in Hexham to worship our great God.\nSAT 8TH FEB // HEXHAM COMMUNITY CHURCH // 7.30PM\nFREE ENTRY // EVERYONE WELCOME\nWorship is more than gathering together for a “feel good” evening. Worship honours our mighty God. It changes us\, our perspective and it changes circumstances around us. \nWorship wages war on the enemy. It lifts up the name of Jesus and seats HIM on the throne of our lives. Worship declares God as our victor\, our redeemer\, our father and friend. God is SO good\, he is faithful\, true to his promises! He is healer\, provider\, giver and sustainer of life. In him is fullness of life\, peace\, strength and joy. \nOur God is SO worthy of our praise\, our time\, our effort. We can’t wait to worship with you and see what God does! Look forward to seeing you there. 🙌 \n🚘Parking in Hexham is free after 6pm (do check the signs where you park though). There may be space on Beaumont Street near the church\, otherwise the Wentworth car park has a lot of spaces and is around 10 minutes walk\, or Loosing Hill car park by the bus station is a 5-10 minute walk.\n\n		\n							\n						\n				\nFind TGM on…			\n			\n					\n	\n\n\n			\n				Website\n	\n\n\n			\n				Instagram\n	\n\n\n			\n				Facebook\n	\n\n\n			\n				Twitter\n	\n\n\n			\n				YouTube
URL:https://www.hexhamcc.com/event/worship-night-tgm/
LOCATION:Hexham Community Church\, Central Chambers\, Beaumont Street\, Hexham\, Northumberland\, NE46 3LS\, United Kingdom
CATEGORIES:Worship
ATTACH;FMTTYPE=image/jpeg:https://www.hexhamcc.com/wp-content/uploads/sites/5/2020/01/worship_feb20_wpevent.jpg
END:VEVENT
END:VCALENDAR