BEGIN:VCALENDAR
VERSION:2.0
PRODID:-//Hexham Community Church - ECPv5.8.1//NONSGML v1.0//EN
CALSCALE:GREGORIAN
METHOD:PUBLISH
X-WR-CALNAME:Hexham Community Church
X-ORIGINAL-URL:https://www.hexhamcc.com
X-WR-CALDESC:Events for Hexham Community Church
BEGIN:VTIMEZONE
TZID:Europe/London
BEGIN:DAYLIGHT
TZOFFSETFROM:+0000
TZOFFSETTO:+0100
TZNAME:BST
DTSTART:20200329T010000
END:DAYLIGHT
BEGIN:STANDARD
TZOFFSETFROM:+0100
TZOFFSETTO:+0000
TZNAME:GMT
DTSTART:20201025T010000
END:STANDARD
END:VTIMEZONE
BEGIN:VEVENT
DTSTART;TZID=Europe/London:20200222T094500
DTEND;TZID=Europe/London:20200222T154500
DTSTAMP:20260426T005323
CREATED:20200131T090042Z
LAST-MODIFIED:20200131T131735Z
UID:27705-1582364700-1582386300@www.hexhamcc.com
SUMMARY:Engaging With: The Prophetic Life
DESCRIPTION:HCC’s popular Engaging With days are a way to teach and engage people with important topics. This time Chris Fleetcroft of the Revive Network will be looking at how we engage with prophecy in our lives. \nThe day will run from 9.45am–3.45pm including breaks for coffee and lunch. Please bring a packed lunch\, or alternatively visit one of the many cafés in Hexham. \n£10 covers the cost of the day. Booking forms are available from the HCC office: 01434 601113 or office@hexhamcc.com \nAll are welcome – particularly those from our Taking Ground churches! \nSome free long-stay parking bays are available in the Wentworth Leisure Centre car park (approx. 10 mins walk from the church). \nChris will also be speaking at our Sunday service the next morning at 10.30am. \nAbout the Revive Network: \nThe Revive Network is a movement of churches and leaders dedicated to building and planting growing\, powerful\, presence-filled 21st Century churches. In recent years Revive Church has grown from one location to nine\, with more on the way. They have also had a growing prophetic sense that they need to launch a way of allowing others who want to connect with the apostolic anointing at Revive to do so. \nAbout Chris Fleetcroft: \nChris moved from leading the largest church location in Hull in order to give his time and energy to developing the new Revive Network. Chris is a man of God’s presence\, miracles\, prophecy and discipleship; you can’t help but be inspired by Chris – a true Revive Church hero!
URL:https://www.hexhamcc.com/event/engaging-with/
LOCATION:Hexham Community Church\, Central Chambers\, Beaumont Street\, Hexham\, Northumberland\, NE46 3LS\, United Kingdom
CATEGORIES:Bible,Course,Engaging With...
ATTACH;FMTTYPE=image/png:https://www.hexhamcc.com/wp-content/uploads/sites/5/2018/09/ew_prophetic_event.png
END:VEVENT
END:VCALENDAR