BEGIN:VCALENDAR
VERSION:2.0
PRODID:-//Hexham Community Church - ECPv5.8.1//NONSGML v1.0//EN
CALSCALE:GREGORIAN
METHOD:PUBLISH
X-WR-CALNAME:Hexham Community Church
X-ORIGINAL-URL:https://www.hexhamcc.com
X-WR-CALDESC:Events for Hexham Community Church
BEGIN:VTIMEZONE
TZID:Europe/London
BEGIN:DAYLIGHT
TZOFFSETFROM:+0000
TZOFFSETTO:+0100
TZNAME:BST
DTSTART:20180325T010000
END:DAYLIGHT
BEGIN:STANDARD
TZOFFSETFROM:+0100
TZOFFSETTO:+0000
TZNAME:GMT
DTSTART:20181028T010000
END:STANDARD
END:VTIMEZONE
BEGIN:VEVENT
DTSTART;TZID=Europe/London:20180505T090000
DTEND;TZID=Europe/London:20180506T150000
DTSTAMP:20260424T230007
CREATED:20180404T092946Z
LAST-MODIFIED:20180502T073600Z
UID:27040-1525510800-1525618800@www.hexhamcc.com
SUMMARY:Taking Ground Family Weekend 2018
DESCRIPTION:BOOKING OPEN NOW\nFor full details and ticket booking click here. \n\nABOUT\nThe weekend will have all the best bits the Camp was planned to have – quality teaching from Carl Beech for the adults\, fun youth and kids’ groups\, social time\, and a hog roast! – but over a full Saturday and a Sunday morning at the Oakwood Centre instead. \nThis means we can still all gather together to connect\, learn and hang out as a big Taking Ground family\, still benefit from all of the amazing plans that have been put together\, and for a fraction of the cost! \nIt will run on Saturday 5th & Sunday 6th May. \n\nWHO IT’S FOR\nTaking Ground Family Weekend is open to Hexham Community Church\, Birtley Community Church\, Sunderland Community Church\, Durham Community Church\, TVC Church\, Middlesbrough Community Church\, Easingwold Community Church\, Community Church Leeds\, our church plant in York\, and Embrace Church Darlington. \n\nPROGRAMME\nPlease visit the Family Weekend webpage at takingground.org.uk/familyweekend for up-to-date information. \n\nPRICES\n£2 Adult (Event only)\n£1 Child/Youth (3-18) (Event only – limited spaces) \n*PLEASE NOTE – the deadline for booking a hog roast and/or packed lunch has now passed.
URL:https://www.hexhamcc.com/event/familyweekend/
LOCATION:The Oakwood Centre\, The Oakwood Centre\, Cleasby Way\, Durham Lane Industrial Estate\, Eaglescliffe\, Stockton-on-Tees\, TS16 0RD\, United Kingdom
CATEGORIES:18s-30s,Conference,Family,Regional Celebration,Taking Ground,Youth
ATTACH;FMTTYPE=image/png:https://www.hexhamcc.com/wp-content/uploads/sites/5/2018/04/tgfw_event2.png
ORGANIZER;CN="Taking%20Ground":MAILTO:contact@takingground.org.uk
END:VEVENT
END:VCALENDAR