BEGIN:VCALENDAR
VERSION:2.0
PRODID:-//Hexham Community Church - ECPv5.8.1//NONSGML v1.0//EN
CALSCALE:GREGORIAN
METHOD:PUBLISH
X-WR-CALNAME:Hexham Community Church
X-ORIGINAL-URL:https://www.hexhamcc.com
X-WR-CALDESC:Events for Hexham Community Church
BEGIN:VTIMEZONE
TZID:Europe/London
BEGIN:DAYLIGHT
TZOFFSETFROM:+0000
TZOFFSETTO:+0100
TZNAME:BST
DTSTART:20170326T010000
END:DAYLIGHT
BEGIN:STANDARD
TZOFFSETFROM:+0100
TZOFFSETTO:+0000
TZNAME:GMT
DTSTART:20171029T010000
END:STANDARD
END:VTIMEZONE
BEGIN:VEVENT
DTSTART;TZID=Europe/London:20171220T190000
DTEND;TZID=Europe/London:20171220T213000
DTSTAMP:20260425T133829
CREATED:20171207T154123Z
LAST-MODIFIED:20190415T151004Z
UID:26435-1513796400-1513805400@www.hexhamcc.com
SUMMARY:18-30s Quizmas Party
DESCRIPTION:It’s Quizmas! We are hosting a Christmas party in the Cedar Tree café for anyone aged 18-39\, with a themed quiz\, a short and fun message to get you thinking about the festive season\, and much\, much more! \n? Christmas Quiz\n? Prize for Best Christmas Jumper\n? Festive Message from Rachel Shepherd\n? Hot Drinks Available to Buy\n? Finger Food / Cold Drinks – please bring some to share\n? Cosy Atmosphere with Music \nVENUE & PARKING\nThe Cedar Tree is at the top of Beaumont Street\, opposite the Sele by the monument. Evening parking is free on Beaumont Street but can often be busy. The Wentworth car park is less than 10 minutes walk from the café and is also free. Disabled parking is available (please ask for details).
URL:https://www.hexhamcc.com/event/quizmas-party/
LOCATION:The Cedar Tree\, Central Chambers\, Beaumont Street\, Hexham\, Northumberland\, NE46 3LS\, United Kingdom
CATEGORIES:18s-30s,Seasonal Events,Social
ATTACH;FMTTYPE=image/png:https://www.hexhamcc.com/wp-content/uploads/sites/5/2017/12/quizmas_event-1.png
ORGANIZER;CN="HCC%2018s-30s":MAILTO:beyond@hexhamcc.com
END:VEVENT
END:VCALENDAR