BEGIN:VCALENDAR
VERSION:2.0
PRODID:-//Hexham Community Church - ECPv5.8.1//NONSGML v1.0//EN
CALSCALE:GREGORIAN
METHOD:PUBLISH
X-WR-CALNAME:Hexham Community Church
X-ORIGINAL-URL:https://www.hexhamcc.com
X-WR-CALDESC:Events for Hexham Community Church
BEGIN:VTIMEZONE
TZID:Europe/London
BEGIN:DAYLIGHT
TZOFFSETFROM:+0000
TZOFFSETTO:+0100
TZNAME:BST
DTSTART:20200329T010000
END:DAYLIGHT
BEGIN:STANDARD
TZOFFSETFROM:+0100
TZOFFSETTO:+0000
TZNAME:GMT
DTSTART:20201025T010000
END:STANDARD
BEGIN:DAYLIGHT
TZOFFSETFROM:+0000
TZOFFSETTO:+0100
TZNAME:BST
DTSTART:20210328T010000
END:DAYLIGHT
BEGIN:STANDARD
TZOFFSETFROM:+0100
TZOFFSETTO:+0000
TZNAME:GMT
DTSTART:20211031T010000
END:STANDARD
BEGIN:DAYLIGHT
TZOFFSETFROM:+0000
TZOFFSETTO:+0100
TZNAME:BST
DTSTART:20220327T010000
END:DAYLIGHT
BEGIN:STANDARD
TZOFFSETFROM:+0100
TZOFFSETTO:+0000
TZNAME:GMT
DTSTART:20221030T010000
END:STANDARD
BEGIN:DAYLIGHT
TZOFFSETFROM:+0000
TZOFFSETTO:+0100
TZNAME:BST
DTSTART:20230326T010000
END:DAYLIGHT
BEGIN:STANDARD
TZOFFSETFROM:+0100
TZOFFSETTO:+0000
TZNAME:GMT
DTSTART:20231029T010000
END:STANDARD
BEGIN:DAYLIGHT
TZOFFSETFROM:+0000
TZOFFSETTO:+0100
TZNAME:BST
DTSTART:20240331T010000
END:DAYLIGHT
BEGIN:STANDARD
TZOFFSETFROM:+0100
TZOFFSETTO:+0000
TZNAME:GMT
DTSTART:20241027T010000
END:STANDARD
END:VTIMEZONE
BEGIN:VEVENT
DTSTART;TZID=Europe/London:20200329T183000
DTEND;TZID=Europe/London:20200329T203000
DTSTAMP:20260426T010016
CREATED:20200304T080043Z
LAST-MODIFIED:20200304T131150Z
UID:28139-1585506600-1585513800@www.hexhamcc.com
SUMMARY:Deeper – extended worship
DESCRIPTION:Going Deeper – with God through Worship \nAn opportunity to go a little deeper in worship than we sometimes can go on a Sunday morning and also give the chance for a more open\, prophetic preach.
URL:https://www.hexhamcc.com/event/deeper/
LOCATION:Hexham Community Church\, Central Chambers\, Beaumont Street\, Hexham\, Northumberland\, NE46 3LS\, United Kingdom
CATEGORIES:Service,Worship
ATTACH;FMTTYPE=image/jpeg:https://www.hexhamcc.com/wp-content/uploads/sites/5/2019/01/goingdeeperwebevent.jpg
ORGANIZER;CN="Hexham%20Community%20Church":MAILTO:office@hexhamcc.com
END:VEVENT
BEGIN:VEVENT
DTSTART;TZID=Europe/London:20200419T183000
DTEND;TZID=Europe/London:20200419T203000
DTSTAMP:20260426T010016
CREATED:20200316T090038Z
LAST-MODIFIED:20200316T091631Z
UID:23291-1587321000-1587328200@www.hexhamcc.com
SUMMARY:Prayer\, Praise and Proclamation
DESCRIPTION:The Valleys community group will be having their monthly Prayer\, Praise and Proclamation evening at Allendale Village Hall. The evening starts at 6.30pm\, with drinks served from 6.15pm. \nFind out more here.
URL:https://www.hexhamcc.com/event/prayer-praise-and-proclamation/
LOCATION:Allendale Village Hall\, Leadgate\, Allendale\, Hexham\, Northumberland\, NE47 9PR\, United Kingdom
CATEGORIES:Prayer,Worship
ATTACH;FMTTYPE=image/png:https://www.hexhamcc.com/wp-content/uploads/sites/5/2015/05/pppeventslider.png
END:VEVENT
BEGIN:VEVENT
DTSTART;TZID=Europe/London:20200425T110000
DTEND;TZID=Europe/London:20200425T130000
DTSTAMP:20260426T010016
CREATED:20200302T090004Z
LAST-MODIFIED:20200302T150808Z
UID:29399-1587812400-1587819600@www.hexhamcc.com
SUMMARY:The Healing Room
DESCRIPTION:The Healing Room is a place where you can encounter the love and healing power of Jesus\, and be prayed for by our trained ministry team. \nWe have seen many people healed physically\, emotionally and spiritually as a result of receiving prayer at The Healing Room. So\, whatever your need\, please come along. \nEach prayer appointment lasts no more than 15 minutes and is completely confidential. \nNo need to book – just call in at the Rising Café entrance and someone will greet you. \nWe are open the last Saturday of every month (excluding December). \nNote: there is no Healing Room in March due to unforeseen circumstances.
URL:https://www.hexhamcc.com/event/the-healing-room/
LOCATION:Hexham Community Church\, Central Chambers\, Beaumont Street\, Hexham\, Northumberland\, NE46 3LS\, United Kingdom
CATEGORIES:Prayer
ATTACH;FMTTYPE=image/jpeg:https://www.hexhamcc.com/wp-content/uploads/sites/5/2019/12/healingroom_wpevent.jpg
END:VEVENT
BEGIN:VEVENT
DTSTART;TZID=Europe/London:20201114T193000
DTEND;TZID=Europe/London:20201114T210000
DTSTAMP:20260426T010016
CREATED:20201102T090026Z
LAST-MODIFIED:20201102T151728Z
UID:27811-1605382200-1605387600@www.hexhamcc.com
SUMMARY:The Big Quiz Night with Tearfund
DESCRIPTION:Hundreds of churches. Thousands of people. One Big Quiz.\nGet together online with your friends\, family and church for an epic evening of poverty-fighting fun. \nOn Saturday 14th November – for one night only – churches and other groups up and down the country will be taking part in the biggest nationwide quiz ever. We’d love you to join in online with Hexham Community Church and our quiz mistress Jen! \nMore details to follow. Online log-on details will be sent by email if you’re on our mailing list.
URL:https://www.hexhamcc.com/event/tearfund-big-quiz/
LOCATION:Online\, United Kingdom
CATEGORIES:Family,Fundrasier,Social
ATTACH;FMTTYPE=image/jpeg:https://www.hexhamcc.com/wp-content/uploads/sites/5/2019/10/tearfund20_fbevent.jpg
END:VEVENT
BEGIN:VEVENT
DTSTART;TZID=Europe/London:20201220T100000
DTEND;TZID=Europe/London:20201220T110000
DTSTAMP:20260426T010016
CREATED:20201209T121828Z
LAST-MODIFIED:20201209T122001Z
UID:34679-1608458400-1608462000@www.hexhamcc.com
SUMMARY:Live Stream with Carols
DESCRIPTION:While we won’t have our usual carol service in the building\, you can still join us for a Christmas message\, carols with our band\, and then a Zoom social afterwards where we encourage you to bring a mince pie and some mulled wine for that festive feeling! \nVisit our Facebook page here at 10am on 20th December. (You don’t need an account.) \n🔴 We have live streams on Facebook EVERY SUNDAY at 10am\, and you’re always welcome!
URL:https://www.hexhamcc.com/event/tis-the-season/
LOCATION:Facebook\, Hexham\, United Kingdom
CATEGORIES:Family,Seasonal Events,Service
ATTACH;FMTTYPE=image/jpeg:https://www.hexhamcc.com/wp-content/uploads/sites/5/2020/12/carolevent20.jpg
ORGANIZER;CN="Hexham%20Community%20Church":MAILTO:office@hexhamcc.com
END:VEVENT
BEGIN:VEVENT
DTSTART;TZID=Europe/London:20201225T100000
DTEND;TZID=Europe/London:20201225T103000
DTSTAMP:20260426T010016
CREATED:20201209T123247Z
LAST-MODIFIED:20201209T123247Z
UID:34688-1608890400-1608892200@www.hexhamcc.com
SUMMARY:Christmas Day Live Stream
DESCRIPTION:Celebrate Christmas Day with us with this special live stream. Hear a short talk\, sing along to a carol from our band\, and bring your favourite present to the Zoom social afterwards. \n10am on Facebook (you don’t need an account to watch).
URL:https://www.hexhamcc.com/event/christmas-day/
LOCATION:Facebook\, Hexham\, United Kingdom
CATEGORIES:Family,Seasonal Events,Service,Social
ATTACH;FMTTYPE=image/jpeg:https://www.hexhamcc.com/wp-content/uploads/sites/5/2020/12/christmasevent20.jpg
ORGANIZER;CN="Hexham%20Community%20Church":MAILTO:office@hexhamcc.com
END:VEVENT
BEGIN:VEVENT
DTSTART;TZID=Europe/London:20220109T103000
DTEND;TZID=Europe/London:20220109T103000
DTSTAMP:20260426T010016
CREATED:20200309T090053Z
LAST-MODIFIED:20220105T172917Z
UID:24781-1641724200-1641724200@www.hexhamcc.com
SUMMARY:Messy Church – Family Fun
DESCRIPTION:Come and join in fun for all the family with crafts\, songs\, story and lunch\, AND it’s all for free.\nFor more information on what Messy Church is click here. \nSee you there!\n\n\n			\n				Messy Church website
URL:https://www.hexhamcc.com/event/messy-church/
LOCATION:Hexham Community Church\, Central Chambers\, Beaumont Street\, Hexham\, Northumberland\, NE46 3LS\, United Kingdom
CATEGORIES:Family,Messy Church
ATTACH;FMTTYPE=image/jpeg:https://www.hexhamcc.com/wp-content/uploads/sites/5/2020/03/messy-church-web.jpg
END:VEVENT
BEGIN:VEVENT
DTSTART;TZID=Europe/London:20220215T193000
DTEND;TZID=Europe/London:20220215T193000
DTSTAMP:20260426T010016
CREATED:20200415T070003Z
LAST-MODIFIED:20220212T232032Z
UID:29247-1644953400-1644953400@www.hexhamcc.com
SUMMARY:Bible Focus Online
DESCRIPTION:Topic: “Pressing on” | Philippians 3\nGuest Speaker: Mike Beaumont\n\nCheck your weekly church email nearer the date for Zoom details\, or contact office@hexhamcc.com. \nGet stuck into your Bible with Hexham Community Church. \nHeld on Tuesday evenings\, these sessions are designed to be accessible for anyone who wants to learn more and would appreciate guidance through the text. \nDuring lockdown it’s even easier to have guest speakers\, so expect some new faces bringing new perspectives.
URL:https://www.hexhamcc.com/event/bible-focus/
LOCATION:Zoom (online video call)
CATEGORIES:Bible
ATTACH;FMTTYPE=image/png:https://www.hexhamcc.com/wp-content/uploads/sites/5/2020/05/bf_online_event-1.png
END:VEVENT
BEGIN:VEVENT
DTSTART;TZID=Europe/London:20220309T190000
DTEND;TZID=Europe/London:20220309T210000
DTSTAMP:20260426T010017
CREATED:20220219T222906Z
LAST-MODIFIED:20220219T222906Z
UID:38566-1646852400-1646859600@www.hexhamcc.com
SUMMARY:Line Dancing
DESCRIPTION:Ya’ll are invited to learn some line dancing from real\, authentic Texans! \nPlus keep you dancin’ energy up with a delicious Texan burger included in your ticket. \nTickets are £4 from Eden grocery\, or the HCC office at office@hexhamcc.com. \nSee ya’ll there!
URL:https://www.hexhamcc.com/event/line-dancing/
LOCATION:Hexham Community Church\, Central Chambers\, Beaumont Street\, Hexham\, Northumberland\, NE46 3LS\, United Kingdom
ATTACH;FMTTYPE=image/jpeg:https://www.hexhamcc.com/wp-content/uploads/sites/5/2022/02/line-dancing-fb-event.jpg
END:VEVENT
BEGIN:VEVENT
DTSTART;TZID=Europe/London:20230103T193000
DTEND;TZID=Europe/London:20230103T193000
DTSTAMP:20260426T010017
CREATED:20200601T080034Z
LAST-MODIFIED:20221230T170822Z
UID:31186-1672774200-1672774200@www.hexhamcc.com
SUMMARY:Prayer Meeting Online
DESCRIPTION:Let’s ‘meet’ midweek for prayer as a church. All are welcome. \nZoom details are available in your weekly church email near the time\, or from the office at office@hexhamcc.com. \nPrayer meeting for the whole church – Tuesday nights monthly\, 7.30pm* \nMen’s early morning prayer – Thursday mornings weekly\, 7.30am* \nLadies’ prayer – Thursdays= mornings weekly\, 9am* \n*Zoom details available in your weekly church email or from office@hexhamcc.com.
URL:https://www.hexhamcc.com/event/prayer-online/
LOCATION:Zoom (online video call)
CATEGORIES:Prayer
ATTACH;FMTTYPE=image/jpeg:https://www.hexhamcc.com/wp-content/uploads/sites/5/2020/05/prayeronline_event.jpg
END:VEVENT
BEGIN:VEVENT
DTSTART;TZID=Europe/London:20231020T193000
DTEND;TZID=Europe/London:20231020T210000
DTSTAMP:20260426T010017
CREATED:20220309T183555Z
LAST-MODIFIED:20230914T174312Z
UID:38689-1697830200-1697835600@www.hexhamcc.com
SUMMARY:John Archer at HCC!
DESCRIPTION:The multi-award winning comedy magician is back at HCC! Prepare for laugh\, shocks and a lot of fun. \nTuck shop available during interval.\n\nTickets: £6\, or £1 for Community Grocery members\, from HCC Office or Hexham Community grocery
URL:https://www.hexhamcc.com/event/john-archer-at-hcc/
LOCATION:Central Chamber\, Beaumont St\, Hexham NE46 3LS\, Central Chamber\, Beaumont Street\, Hexham\, NE46 3LS\, United Kingdom
ATTACH;FMTTYPE=image/jpeg:https://www.hexhamcc.com/wp-content/uploads/sites/5/2022/03/ja23-fb-event.jpg
END:VEVENT
BEGIN:VEVENT
DTSTART;TZID=Europe/London:20240818T110000
DTEND;TZID=Europe/London:20240818T160000
DTSTAMP:20260426T010017
CREATED:20240625T163809Z
LAST-MODIFIED:20240625T164222Z
UID:50482-1723978800-1723996800@www.hexhamcc.com
SUMMARY:Big Day Out
DESCRIPTION:The Big Day Out returns! \nJoin us at Bardon Village Hall for a fun day of activities including a bouncy castle (for children AND adults!)\, Children’s play area and shared lunch. \n\n\n\n\n\n\n\n\nContact the Church Office if you need a lift
URL:https://www.hexhamcc.com/event/big-day-out/
LOCATION:Bardon Mill Village Hall\, Bardon Mill Village Hall\, NE47 7DW
CATEGORIES:Seasonal Events
ATTACH;FMTTYPE=image/png:https://www.hexhamcc.com/wp-content/uploads/sites/5/2024/06/bdo-slider-complete.png
END:VEVENT
END:VCALENDAR