BEGIN:VCALENDAR
VERSION:2.0
PRODID:-//Hexham Community Church - ECPv5.8.1//NONSGML v1.0//EN
CALSCALE:GREGORIAN
METHOD:PUBLISH
X-WR-CALNAME:Hexham Community Church
X-ORIGINAL-URL:https://www.hexhamcc.com
X-WR-CALDESC:Events for Hexham Community Church
BEGIN:VTIMEZONE
TZID:Europe/London
BEGIN:DAYLIGHT
TZOFFSETFROM:+0000
TZOFFSETTO:+0100
TZNAME:BST
DTSTART:20150329T010000
END:DAYLIGHT
BEGIN:STANDARD
TZOFFSETFROM:+0100
TZOFFSETTO:+0000
TZNAME:GMT
DTSTART:20151025T010000
END:STANDARD
END:VTIMEZONE
BEGIN:VEVENT
DTSTART;TZID=Europe/London:20150926T090000
DTEND;TZID=Europe/London:20150926T164500
DTSTAMP:20260425T162211
CREATED:20150629T113833Z
LAST-MODIFIED:20150629T114202Z
UID:23478-1443258000-1443285900@www.hexhamcc.com
SUMMARY:School of Bible and Mission
DESCRIPTION:For the first time Salt & Light North East’s School of Bible and Mission’s first year – Course 1 – Discovering the Big Story – will be held in Hexham at Hexham Community Church! \nEveryone welcome! \nSchool of Bible and Mission – 1 Aim – Effective Disciples \nStarting Saturday September 26th this course will last 9 sessions.\nIt will be held once a month and will be all day. \nFor more information contact our church office: 01434 601113
URL:https://www.hexhamcc.com/event/school-of-bible-and-mission/
LOCATION:Hexham Community Church\, Central Chambers\, Beaumont Street\, Hexham\, Northumberland\, NE46 3LS\, United Kingdom
CATEGORIES:Course
ORGANIZER;CN="Hexham%20Community%20Church":MAILTO:office@hexhamcc.com
END:VEVENT
END:VCALENDAR