BEGIN:VCALENDAR
VERSION:2.0
PRODID:-//Hexham Community Church - ECPv5.8.1//NONSGML v1.0//EN
CALSCALE:GREGORIAN
METHOD:PUBLISH
X-WR-CALNAME:Hexham Community Church
X-ORIGINAL-URL:https://www.hexhamcc.com
X-WR-CALDESC:Events for Hexham Community Church
BEGIN:VTIMEZONE
TZID:Europe/London
BEGIN:DAYLIGHT
TZOFFSETFROM:+0000
TZOFFSETTO:+0100
TZNAME:BST
DTSTART:20150329T010000
END:DAYLIGHT
BEGIN:STANDARD
TZOFFSETFROM:+0100
TZOFFSETTO:+0000
TZNAME:GMT
DTSTART:20151025T010000
END:STANDARD
BEGIN:DAYLIGHT
TZOFFSETFROM:+0000
TZOFFSETTO:+0100
TZNAME:BST
DTSTART:20160327T010000
END:DAYLIGHT
BEGIN:STANDARD
TZOFFSETFROM:+0100
TZOFFSETTO:+0000
TZNAME:GMT
DTSTART:20161030T010000
END:STANDARD
END:VTIMEZONE
BEGIN:VEVENT
DTSTART;TZID=Europe/London:20160429T190000
DTEND;TZID=Europe/London:20160429T210000
DTSTAMP:20260423T110746
CREATED:20160401T161548Z
LAST-MODIFIED:20160401T161803Z
UID:24111-1461956400-1461963600@www.hexhamcc.com
SUMMARY:Alpha Intro Evening
DESCRIPTION:Alpha is a chance to explore the Christian faith\, ask your questions\, have some discussions and all with food! \nCome along to our introductory evening to find out more.
URL:https://www.hexhamcc.com/event/alpha-intro-evening/
LOCATION:Hexham Community Church\, Central Chambers\, Beaumont Street\, Hexham\, Northumberland\, NE46 3LS\, United Kingdom
CATEGORIES:Course
ORGANIZER;CN="Hexham%20Community%20Church":MAILTO:office@hexhamcc.com
END:VEVENT
BEGIN:VEVENT
DTSTART;TZID=Europe/London:20151017T190000
DTEND;TZID=Europe/London:20151017T210000
DTSTAMP:20260423T110746
CREATED:20151012T163238Z
LAST-MODIFIED:20151012T164445Z
UID:23661-1445108400-1445115600@www.hexhamcc.com
SUMMARY:DC Quiz Fundraiser
DESCRIPTION:Jacket potato supper included. Bring your own drinks. \nJen Rumsey will be our quiz master! \nAll welcome! \nTickets available at The Cedar Tree.
URL:https://www.hexhamcc.com/event/dc-quiz-fundraiser/
LOCATION:Hexham Community Church\, Central Chambers\, Beaumont Street\, Hexham\, Northumberland\, NE46 3LS\, United Kingdom
CATEGORIES:Fundrasier,Social
END:VEVENT
BEGIN:VEVENT
DTSTART;TZID=Europe/London:20150926T090000
DTEND;TZID=Europe/London:20150926T164500
DTSTAMP:20260423T110746
CREATED:20150629T113833Z
LAST-MODIFIED:20150629T114202Z
UID:23478-1443258000-1443285900@www.hexhamcc.com
SUMMARY:School of Bible and Mission
DESCRIPTION:For the first time Salt & Light North East’s School of Bible and Mission’s first year – Course 1 – Discovering the Big Story – will be held in Hexham at Hexham Community Church! \nEveryone welcome! \nSchool of Bible and Mission – 1 Aim – Effective Disciples \nStarting Saturday September 26th this course will last 9 sessions.\nIt will be held once a month and will be all day. \nFor more information contact our church office: 01434 601113
URL:https://www.hexhamcc.com/event/school-of-bible-and-mission/
LOCATION:Hexham Community Church\, Central Chambers\, Beaumont Street\, Hexham\, Northumberland\, NE46 3LS\, United Kingdom
CATEGORIES:Course
ORGANIZER;CN="Hexham%20Community%20Church":MAILTO:office@hexhamcc.com
END:VEVENT
END:VCALENDAR